BEGIN:VCALENDAR
VERSION:2.0
PRODID:LFV Website-Kit
METHOD:PUBLISH
BEGIN:VEVENT
UID:lfv-393d342e-1324-4b69-8152-cb6589909a18
LOCATION:FwGH - Kybergstraße 26a, 82041 Oberhaching
SUMMARY:Monatsübung Juli 2024
DESCRIPTION:für alle aktiven Mitglieder\n\nTermin Link: http://feuerwehr-oberhaching.de/termine/monatsubung-juli-2024/
URL:http://feuerwehr-oberhaching.de/termine/monatsubung-juli-2024/
CLASS:PRIVATE
DTSTART;TZID=Europe/Berlin:20240701T193000
DTEND;TZID=Europe/Berlin:20240701T210000
DTSTAMP:20260425T162710Z
END:VEVENT
END:VCALENDAR